BEGIN:VCALENDAR
VERSION:2.0
PRODID:-//jEvents 2.0 for Joomla//EN
CALSCALE:GREGORIAN
METHOD:PUBLISH
BEGIN:VTIMEZONE
TZID:Europe/Bucharest
BEGIN:STANDARD
DTSTART:20100305T110000
RDATE:20100328T040000
TZOFFSETFROM:+0300
TZOFFSETTO:+0200
TZNAME:Europe/Bucharest EET
END:STANDARD
BEGIN:STANDARD
DTSTART:20101031T030000
RDATE:20110327T040000
TZOFFSETFROM:+0300
TZOFFSETTO:+0200
TZNAME:Europe/Bucharest EET
END:STANDARD
BEGIN:STANDARD
DTSTART:20111030T030000
RDATE:20120325T040000
TZOFFSETFROM:+0300
TZOFFSETTO:+0200
TZNAME:Europe/Bucharest EET
END:STANDARD
BEGIN:STANDARD
DTSTART:20121028T030000
RDATE:20130331T040000
TZOFFSETFROM:+0300
TZOFFSETTO:+0200
TZNAME:Europe/Bucharest EET
END:STANDARD
BEGIN:STANDARD
DTSTART:20131027T030000
RDATE:20140330T040000
TZOFFSETFROM:+0300
TZOFFSETTO:+0200
TZNAME:Europe/Bucharest EET
END:STANDARD
BEGIN:STANDARD
DTSTART:20141026T030000
RDATE:20150329T040000
TZOFFSETFROM:+0300
TZOFFSETTO:+0200
TZNAME:Europe/Bucharest EET
END:STANDARD
BEGIN:STANDARD
DTSTART:20151025T030000
RDATE:20160327T040000
TZOFFSETFROM:+0300
TZOFFSETTO:+0200
TZNAME:Europe/Bucharest EET
END:STANDARD
BEGIN:STANDARD
DTSTART:20161030T030000
RDATE:20170326T040000
TZOFFSETFROM:+0300
TZOFFSETTO:+0200
TZNAME:Europe/Bucharest EET
END:STANDARD
BEGIN:STANDARD
DTSTART:20171029T030000
RDATE:20180325T040000
TZOFFSETFROM:+0300
TZOFFSETTO:+0200
TZNAME:Europe/Bucharest EET
END:STANDARD
BEGIN:STANDARD
DTSTART:20181028T030000
RDATE:20190331T040000
TZOFFSETFROM:+0300
TZOFFSETTO:+0200
TZNAME:Europe/Bucharest EET
END:STANDARD
BEGIN:STANDARD
DTSTART:20191027T030000
RDATE:20200329T040000
TZOFFSETFROM:+0300
TZOFFSETTO:+0200
TZNAME:Europe/Bucharest EET
END:STANDARD
BEGIN:STANDARD
DTSTART:20201025T030000
RDATE:20210328T040000
TZOFFSETFROM:+0300
TZOFFSETTO:+0200
TZNAME:Europe/Bucharest EET
END:STANDARD
BEGIN:STANDARD
DTSTART:20211031T030000
RDATE:20220327T040000
TZOFFSETFROM:+0300
TZOFFSETTO:+0200
TZNAME:Europe/Bucharest EET
END:STANDARD
BEGIN:STANDARD
DTSTART:20221030T030000
RDATE:20230326T040000
TZOFFSETFROM:+0300
TZOFFSETTO:+0200
TZNAME:Europe/Bucharest EET
END:STANDARD
BEGIN:STANDARD
DTSTART:20231029T030000
RDATE:20240331T040000
TZOFFSETFROM:+0300
TZOFFSETTO:+0200
TZNAME:Europe/Bucharest EET
END:STANDARD
BEGIN:STANDARD
DTSTART:20241027T030000
RDATE:20250330T040000
TZOFFSETFROM:+0300
TZOFFSETTO:+0200
TZNAME:Europe/Bucharest EET
END:STANDARD
BEGIN:STANDARD
DTSTART:20251026T030000
RDATE:20260329T040000
TZOFFSETFROM:+0300
TZOFFSETTO:+0200
TZNAME:Europe/Bucharest EET
END:STANDARD
BEGIN:STANDARD
DTSTART:20261025T030000
RDATE:20270328T040000
TZOFFSETFROM:+0300
TZOFFSETTO:+0200
TZNAME:Europe/Bucharest EET
END:STANDARD
BEGIN:STANDARD
DTSTART:20271031T030000
RDATE:20280326T040000
TZOFFSETFROM:+0300
TZOFFSETTO:+0200
TZNAME:Europe/Bucharest EET
END:STANDARD
BEGIN:STANDARD
DTSTART:20281029T030000
RDATE:20290325T040000
TZOFFSETFROM:+0300
TZOFFSETTO:+0200
TZNAME:Europe/Bucharest EET
END:STANDARD
BEGIN:STANDARD
DTSTART:20291028T030000
RDATE:20300331T040000
TZOFFSETFROM:+0300
TZOFFSETTO:+0200
TZNAME:Europe/Bucharest EET
END:STANDARD
BEGIN:STANDARD
DTSTART:20301027T030000
RDATE:20310330T040000
TZOFFSETFROM:+0300
TZOFFSETTO:+0200
TZNAME:Europe/Bucharest EET
END:STANDARD
BEGIN:STANDARD
DTSTART:20311026T030000
RDATE:20320328T040000
TZOFFSETFROM:+0300
TZOFFSETTO:+0200
TZNAME:Europe/Bucharest EET
END:STANDARD
BEGIN:DAYLIGHT
DTSTART:20100328T040000
RDATE:20101031T030000
TZOFFSETFROM:+0200
TZOFFSETTO:+0300
TZNAME:Europe/Bucharest EEST
END:DAYLIGHT
BEGIN:DAYLIGHT
DTSTART:20110327T040000
RDATE:20111030T030000
TZOFFSETFROM:+0200
TZOFFSETTO:+0300
TZNAME:Europe/Bucharest EEST
END:DAYLIGHT
BEGIN:DAYLIGHT
DTSTART:20120325T040000
RDATE:20121028T030000
TZOFFSETFROM:+0200
TZOFFSETTO:+0300
TZNAME:Europe/Bucharest EEST
END:DAYLIGHT
BEGIN:DAYLIGHT
DTSTART:20130331T040000
RDATE:20131027T030000
TZOFFSETFROM:+0200
TZOFFSETTO:+0300
TZNAME:Europe/Bucharest EEST
END:DAYLIGHT
BEGIN:DAYLIGHT
DTSTART:20140330T040000
RDATE:20141026T030000
TZOFFSETFROM:+0200
TZOFFSETTO:+0300
TZNAME:Europe/Bucharest EEST
END:DAYLIGHT
BEGIN:DAYLIGHT
DTSTART:20150329T040000
RDATE:20151025T030000
TZOFFSETFROM:+0200
TZOFFSETTO:+0300
TZNAME:Europe/Bucharest EEST
END:DAYLIGHT
BEGIN:DAYLIGHT
DTSTART:20160327T040000
RDATE:20161030T030000
TZOFFSETFROM:+0200
TZOFFSETTO:+0300
TZNAME:Europe/Bucharest EEST
END:DAYLIGHT
BEGIN:DAYLIGHT
DTSTART:20170326T040000
RDATE:20171029T030000
TZOFFSETFROM:+0200
TZOFFSETTO:+0300
TZNAME:Europe/Bucharest EEST
END:DAYLIGHT
BEGIN:DAYLIGHT
DTSTART:20180325T040000
RDATE:20181028T030000
TZOFFSETFROM:+0200
TZOFFSETTO:+0300
TZNAME:Europe/Bucharest EEST
END:DAYLIGHT
BEGIN:DAYLIGHT
DTSTART:20190331T040000
RDATE:20191027T030000
TZOFFSETFROM:+0200
TZOFFSETTO:+0300
TZNAME:Europe/Bucharest EEST
END:DAYLIGHT
BEGIN:DAYLIGHT
DTSTART:20200329T040000
RDATE:20201025T030000
TZOFFSETFROM:+0200
TZOFFSETTO:+0300
TZNAME:Europe/Bucharest EEST
END:DAYLIGHT
BEGIN:DAYLIGHT
DTSTART:20210328T040000
RDATE:20211031T030000
TZOFFSETFROM:+0200
TZOFFSETTO:+0300
TZNAME:Europe/Bucharest EEST
END:DAYLIGHT
BEGIN:DAYLIGHT
DTSTART:20220327T040000
RDATE:20221030T030000
TZOFFSETFROM:+0200
TZOFFSETTO:+0300
TZNAME:Europe/Bucharest EEST
END:DAYLIGHT
BEGIN:DAYLIGHT
DTSTART:20230326T040000
RDATE:20231029T030000
TZOFFSETFROM:+0200
TZOFFSETTO:+0300
TZNAME:Europe/Bucharest EEST
END:DAYLIGHT
BEGIN:DAYLIGHT
DTSTART:20240331T040000
RDATE:20241027T030000
TZOFFSETFROM:+0200
TZOFFSETTO:+0300
TZNAME:Europe/Bucharest EEST
END:DAYLIGHT
BEGIN:DAYLIGHT
DTSTART:20250330T040000
RDATE:20251026T030000
TZOFFSETFROM:+0200
TZOFFSETTO:+0300
TZNAME:Europe/Bucharest EEST
END:DAYLIGHT
BEGIN:DAYLIGHT
DTSTART:20260329T040000
RDATE:20261025T030000
TZOFFSETFROM:+0200
TZOFFSETTO:+0300
TZNAME:Europe/Bucharest EEST
END:DAYLIGHT
BEGIN:DAYLIGHT
DTSTART:20270328T040000
RDATE:20271031T030000
TZOFFSETFROM:+0200
TZOFFSETTO:+0300
TZNAME:Europe/Bucharest EEST
END:DAYLIGHT
BEGIN:DAYLIGHT
DTSTART:20280326T040000
RDATE:20281029T030000
TZOFFSETFROM:+0200
TZOFFSETTO:+0300
TZNAME:Europe/Bucharest EEST
END:DAYLIGHT
BEGIN:DAYLIGHT
DTSTART:20290325T040000
RDATE:20291028T030000
TZOFFSETFROM:+0200
TZOFFSETTO:+0300
TZNAME:Europe/Bucharest EEST
END:DAYLIGHT
BEGIN:DAYLIGHT
DTSTART:20300331T040000
RDATE:20301027T030000
TZOFFSETFROM:+0200
TZOFFSETTO:+0300
TZNAME:Europe/Bucharest EEST
END:DAYLIGHT
BEGIN:DAYLIGHT
DTSTART:20310330T040000
RDATE:20311026T030000
TZOFFSETFROM:+0200
TZOFFSETTO:+0300
TZNAME:Europe/Bucharest EEST
END:DAYLIGHT
END:VTIMEZONE
BEGIN:VEVENT
UID:561d0423dd5b405cbe296eb2c5fbf5b6
CATEGORIES:General
CREATED:20180116T005528
SUMMARY:Spectacol-Demonstratie Eugen de la Cernica
LOCATION:Cernica

URL;VALUE=URI:https://voxcernica.ro/calendar-evenimente-cernica/calendar-evenimente-local
 e-cernica/93/spectacol-demonstratie-eugen-de-la-cernica.html?tmpl=component
DESCRIPTION:Maestrul Eugen de la Cernica, va sustine o demonstratie pentru copii care d
 oresc sa urmeze cursri de acordeon, tambal, contrabas, chitara, solisti muz
 ica populara. Sunt invitati parintii, copii si tinerii din satele comunei C
 ernica.\n
Maestrul Eugen va fi acompaniat de Angheluta Cristian (solist voc
 al), Gheorghita de la Bobesti (vioara), Florin Alexandru (tambal), Marius L
 upu (contrabas)\n
a style="color: #0000ff; text-align: left;" href="&lt;/p&
 gt;"
 This event was imported from: https://voxcernica.ro/calendar-evenimen
 te-cernica/calendar-evenimente-locale-cernica/93/spectacol-demonstratie-eug
 en-de-la-cernica.html?tmpl=component (https://voxcernica.ro/calendar-evenim
 ente-cernica/calendar-evenimente-locale-cernica/93/spectacol-demonstratie-e
 ugen-de-la-cernica.html?tmpl=component)
X-ALT-DESC;FMTTYPE=text/html:<p>Maestrul Eugen de la Cernica, va sustine o demonstratie pentru copii car
 e doresc sa urmeze cursri de acordeon, tambal, contrabas, chitara, solisti 
 muzica populara. Sunt invitati parintii, copii si tinerii din satele comune
 i Cernica.</p>
<p>Maestrul Eugen va fi acompaniat de Angheluta Cristian (so
 list vocal), Gheorghita de la Bobesti (vioara), Florin Alexandru (tambal), 
 Marius Lupu (contrabas)</p>
<p /><small />a style="color: #0000ff; text-ali
 gn: left;" href="https://voxcernica.ro/&lt;/p&gt;"
 <a href="https://voxcer
 nica.ro/calendar-evenimente-cernica/calendar-evenimente-locale-cernica/93/s
 pectacol-demonstratie-eugen-de-la-cernica.html?tmpl=component">This event w
 as imported from: https://voxcernica.ro/calendar-evenimente-cernica/calenda
 r-evenimente-locale-cernica/93/spectacol-demonstratie-eugen-de-la-cernica.h
 tml?tmpl=component</a>CONTACT:D-l Eugen Alexandru

X-EXTRAINFO:Telefon 0769280611

DTSTAMP:20260419T155926
DTSTART;TZID=Europe/Bucharest:20110306T110000
DTEND;TZID=Europe/Bucharest:20110306T140000
SEQUENCE:0
TRANSP:OPAQUE
END:VEVENT
END:VCALENDAR