BEGIN:VCALENDAR
VERSION:2.0
PRODID:-//jEvents 2.0 for Joomla//EN
CALSCALE:GREGORIAN
METHOD:PUBLISH
BEGIN:VTIMEZONE
TZID:Europe/Bucharest
BEGIN:STANDARD
DTSTART:20251026T030000
RDATE:20260329T040000
TZOFFSETFROM:+0300
TZOFFSETTO:+0200
TZNAME:Europe/Bucharest EET
END:STANDARD
BEGIN:STANDARD
DTSTART:20261025T030000
RDATE:20270328T040000
TZOFFSETFROM:+0300
TZOFFSETTO:+0200
TZNAME:Europe/Bucharest EET
END:STANDARD
BEGIN:STANDARD
DTSTART:20271031T030000
RDATE:20280326T040000
TZOFFSETFROM:+0300
TZOFFSETTO:+0200
TZNAME:Europe/Bucharest EET
END:STANDARD
BEGIN:STANDARD
DTSTART:20281029T030000
RDATE:20290325T040000
TZOFFSETFROM:+0300
TZOFFSETTO:+0200
TZNAME:Europe/Bucharest EET
END:STANDARD
BEGIN:STANDARD
DTSTART:20291028T030000
RDATE:20300331T040000
TZOFFSETFROM:+0300
TZOFFSETTO:+0200
TZNAME:Europe/Bucharest EET
END:STANDARD
BEGIN:STANDARD
DTSTART:20301027T030000
RDATE:20310330T040000
TZOFFSETFROM:+0300
TZOFFSETTO:+0200
TZNAME:Europe/Bucharest EET
END:STANDARD
BEGIN:STANDARD
DTSTART:20311026T030000
RDATE:20320328T040000
TZOFFSETFROM:+0300
TZOFFSETTO:+0200
TZNAME:Europe/Bucharest EET
END:STANDARD
BEGIN:DAYLIGHT
DTSTART:20250528T000100
RDATE:20251026T030000
TZOFFSETFROM:+0200
TZOFFSETTO:+0300
TZNAME:Europe/Bucharest EEST
END:DAYLIGHT
BEGIN:DAYLIGHT
DTSTART:20260329T040000
RDATE:20261025T030000
TZOFFSETFROM:+0200
TZOFFSETTO:+0300
TZNAME:Europe/Bucharest EEST
END:DAYLIGHT
BEGIN:DAYLIGHT
DTSTART:20270328T040000
RDATE:20271031T030000
TZOFFSETFROM:+0200
TZOFFSETTO:+0300
TZNAME:Europe/Bucharest EEST
END:DAYLIGHT
BEGIN:DAYLIGHT
DTSTART:20280326T040000
RDATE:20281029T030000
TZOFFSETFROM:+0200
TZOFFSETTO:+0300
TZNAME:Europe/Bucharest EEST
END:DAYLIGHT
BEGIN:DAYLIGHT
DTSTART:20290325T040000
RDATE:20291028T030000
TZOFFSETFROM:+0200
TZOFFSETTO:+0300
TZNAME:Europe/Bucharest EEST
END:DAYLIGHT
BEGIN:DAYLIGHT
DTSTART:20300331T040000
RDATE:20301027T030000
TZOFFSETFROM:+0200
TZOFFSETTO:+0300
TZNAME:Europe/Bucharest EEST
END:DAYLIGHT
BEGIN:DAYLIGHT
DTSTART:20310330T040000
RDATE:20311026T030000
TZOFFSETFROM:+0200
TZOFFSETTO:+0300
TZNAME:Europe/Bucharest EEST
END:DAYLIGHT
END:VTIMEZONE
BEGIN:VEVENT
UID:1bd059fcd05acc81e652f0a4ae0e9563
CATEGORIES:Biserici
CREATED:20180116T005528
SUMMARY:Sf. Petru - Exemplu eveniment Biserici-Religie
LOCATION:Caldararu

URL;VALUE=URI:https://voxcernica.ro/calendar-evenimente-cernica/calendar-evenimente-local
 e-cernica/109/sf-petru-exemplu-eveniment-biserici-religie.html?tmpl=compone
 nt
DESCRIPTION:&lt;foto&gt;\n
&lt;descriere eveniment&gt;\n
 This event was imported from:
  https://voxcernica.ro/calendar-evenimente-cernica/calendar-evenimente-loca
 le-cernica/109/sf-petru-exemplu-eveniment-biserici-religie.html?tmpl=compon
 ent
X-ALT-DESC;FMTTYPE=text/html:<p>&lt;foto&gt;</p>
<p>&lt;descriere eveniment&gt;</p>
 <a href="https://vo
 xcernica.ro/calendar-evenimente-cernica/calendar-evenimente-locale-cernica/
 109/sf-petru-exemplu-eveniment-biserici-religie.html?tmpl=component">This e
 vent was imported from: https://voxcernica.ro/calendar-evenimente-cernica/c
 alendar-evenimente-locale-cernica/109/sf-petru-exemplu-eveniment-biserici-r
 eligie.html?tmpl=component</a>CONTACT:Această adresă de email este protejată contra spambots. Trebuie să activați JavaScript pentru a o vedea.
				document.getElementById('cloakab7b512f9a828595aa0e762b9e7a4b06').innerHTML = '';
				var prefix = '&#109;a' + 'i&#108;' + '&#116;o';
				var path = 'hr' + 'ef' + '=';
				var addyab7b512f9a828595aa0e762b9e7a4b06 = 'b&#105;s&#101;r&#105;c&#97;' + '&#64;';
				addyab7b512f9a828595aa0e762b9e7a4b06 = addyab7b512f9a828595aa0e762b9e7a4b06 + 'b&#105;s&#101;r&#105;c&#97;' + '&#46;' + 'r&#111;';
				var addy_textab7b512f9a828595aa0e762b9e7a4b06 = 'b&#105;s&#101;r&#105;c&#97;' + '&#64;' + 'b&#105;s&#101;r&#105;c&#97;' + '&#46;' + 'r&#111;';document.getElementById('cloakab7b512f9a828595aa0e762b9e7a4b06').innerHTML += '<a ' + path + '\'' + prefix + ':' + addyab7b512f9a828595aa0e762b9e7a4b06 + '\'>'+addy_textab7b512f9a828595aa0e762b9e7a4b06+'';
		

X-EXTRAINFO:

DTSTAMP:20260419T123718
DTSTART;TZID=Europe/Bucharest:20260529T000100
DTEND;TZID=Europe/Bucharest:20260529T235900
SEQUENCE:0
TRANSP:OPAQUE
END:VEVENT
END:VCALENDAR